BEGIN:VCALENDAR
VERSION:2.0
PRODID:-//RFV Vorderrhön e.V.//Events//DE
CALSCALE:GREGORIAN
METHOD:PUBLISH
BEGIN:VEVENT
UID:turnier-molzbach@rfv-vorderrhoen.de
DTSTAMP:20260422T211133Z
DTSTART;VALUE=DATE:20260531
DTEND;VALUE=DATE:20260601
SUMMARY:Turnier in Edertal
DESCRIPTION:Im Mai findet in Grünberg ein WBO-Turnier statt.\n\nhttps://rf
 v-vorderrhoen.de/news/turnier-molzbach
URL:https://rfv-vorderrhoen.de/news/turnier-molzbach
END:VEVENT
END:VCALENDAR
