BEGIN:VCALENDAR
VERSION:2.0
PRODID:-//RFV Vorderrhön e.V.//Events//DE
CALSCALE:GREGORIAN
METHOD:PUBLISH
BEGIN:VEVENT
UID:turnier-lauterbach@rfv-vorderrhoen.de
DTSTAMP:20260422T211133Z
DTSTART;VALUE=DATE:20260822
DTEND;VALUE=DATE:20260823
SUMMARY:Turnier in Lauterbach
DESCRIPTION:Im August findet in Lauterbach ein WBO-Turnier statt.\n\nhttps
 ://rfv-vorderrhoen.de/news/turnier-lauterbach
URL:https://rfv-vorderrhoen.de/news/turnier-lauterbach
END:VEVENT
END:VCALENDAR
