BEGIN:VCALENDAR
VERSION:2.0
PRODID:-//RFV Vorderrhön e.V.//Events//DE
CALSCALE:GREGORIAN
METHOD:PUBLISH
BEGIN:VEVENT
UID:turnier-idstein@rfv-vorderrhoen.de
DTSTAMP:20260422T211133Z
DTSTART;VALUE=DATE:20280508
DTEND;VALUE=DATE:20280509
SUMMARY:Turnier in Idstein
DESCRIPTION:Im Mai findet in Idstein ein Turnier statt.\n\nhttps://rfv-vor
 derrhoen.de/news/turnier-idstein
URL:https://rfv-vorderrhoen.de/news/turnier-idstein
END:VEVENT
END:VCALENDAR
