BEGIN:VCALENDAR
VERSION:2.0
PRODID:-//RFV Vorderrhön e.V.//Events//DE
CALSCALE:GREGORIAN
METHOD:PUBLISH
BEGIN:VEVENT
UID:turnier-hessentag@rfv-vorderrhoen.de
DTSTAMP:20260422T211133Z
DTSTART;VALUE=DATE:20260620
DTEND;VALUE=DATE:20260621
SUMMARY:Hessentag in Fulda
DESCRIPTION:Hessentag in der Johannisaue\n\nhttps://rfv-vorderrhoen.de/new
 s/turnier-hessentag
URL:https://rfv-vorderrhoen.de/news/turnier-hessentag
END:VEVENT
END:VCALENDAR
