BEGIN:VCALENDAR
VERSION:2.0
PRODID:-//RFV Vorderrhön e.V.//Events//DE
CALSCALE:GREGORIAN
METHOD:PUBLISH
BEGIN:VEVENT
UID:turnier-gruenberg@rfv-vorderrhoen.de
DTSTAMP:20260422T211133Z
DTSTART;VALUE=DATE:20260503
DTEND;VALUE=DATE:20260504
SUMMARY:WBO-Turnier in Grünberg
DESCRIPTION:Im Mai findet in Grünberg ein WBO-Turnier statt.\n\nhttps://rf
 v-vorderrhoen.de/news/turnier-gruenberg
URL:https://rfv-vorderrhoen.de/news/turnier-gruenberg
END:VEVENT
END:VCALENDAR
