BEGIN:VCALENDAR
VERSION:2.0
PRODID:-//RFV Vorderrhön e.V.//Events//DE
CALSCALE:GREGORIAN
METHOD:PUBLISH
BEGIN:VEVENT
UID:turnier-edertal@rfv-vorderrhoen.de
DTSTAMP:20260422T211133Z
DTSTART;VALUE=DATE:20260530
DTEND;VALUE=DATE:20260531
SUMMARY:Turnier in Edertal
DESCRIPTION:Im Mai findet in Edertal ein Turnier statt.\n\nhttps://rfv-vor
 derrhoen.de/news/turnier-edertal
URL:https://rfv-vorderrhoen.de/news/turnier-edertal
END:VEVENT
END:VCALENDAR
