BEGIN:VCALENDAR
VERSION:2.0
PRODID:-//RFV Vorderrhön e.V.//Events//DE
CALSCALE:GREGORIAN
METHOD:PUBLISH
BEGIN:VEVENT
UID:movieturnier@rfv-vorderrhoen.de
DTSTAMP:20260422T211133Z
DTSTART;VALUE=DATE:20260425
DTEND;VALUE=DATE:20260426
SUMMARY:Turnpferd- und Movieturnier
DESCRIPTION:Im April findet bei uns am Hof ein Turnpferd- und Movieturnier
  statt.\n\nhttps://rfv-vorderrhoen.de/news/movieturnier
URL:https://rfv-vorderrhoen.de/news/movieturnier
END:VEVENT
END:VCALENDAR
