BEGIN:VCALENDAR
VERSION:2.0
PRODID:-//RFV Vorderrhön e.V.//Events//DE
CALSCALE:GREGORIAN
METHOD:PUBLISH
BEGIN:VEVENT
UID:aktionstag@rfv-vorderrhoen.de
DTSTAMP:20260422T211133Z
DTSTART;VALUE=DATE:20260426
DTEND;VALUE=DATE:20260427
SUMMARY:Aktionstag Voltigieren des Kreisreiterbundes
DESCRIPTION:Der Kreisreiterbund richtet bei uns einen Aktionstag aus.\n\nh
 ttps://rfv-vorderrhoen.de/news/aktionstag
URL:https://rfv-vorderrhoen.de/news/aktionstag
END:VEVENT
END:VCALENDAR
